BEGIN:VCALENDAR
VERSION:2.0
PRODID:20260425T070553@https://rubytheatre.com?barker_action=event-listing-
 ical&event_listing_id=15781
X-WR-CALNAME:Ruby Theatre Event Listings
BEGIN:VEVENT
UID:https://rubytheatre.com/barker_event_listing/15781/
DTSTART;TZID=America/Vancouver:20260519T173000
SEQUENCE:0
TRANSP:OPAQUE
DTEND;TZID=America/Vancouver:20260519T193000
URL:https://rubytheatre.com/movie/the-devil-wears-prada-2/
LOCATION:135 E. Woodin Ave. Chelan Wa. USA 98831
SUMMARY:The Devil Wears Prada 2
CLASS:PUBLIC
DESCRIPTION:As Miranda Priestly nears retirement\, she reunites with Andy S
 achs to face off against her former assistant turned rival: Emily Charlton
 .
DTSTAMP:20260425T140553Z
LAST-MODIFIED:20260424T210545Z
END:VEVENT
END:VCALENDAR